BEGIN:VCALENDAR
VERSION:2.0
PRODID:-//Hiiumaa - ECPv6.15.13//NONSGML v1.0//EN
CALSCALE:GREGORIAN
METHOD:PUBLISH
X-ORIGINAL-URL:https://hiiumaa.ee/de/
X-WR-CALDESC:Veranstaltungen für Hiiumaa
REFRESH-INTERVAL;VALUE=DURATION:PT1H
X-Robots-Tag:noindex
X-PUBLISHED-TTL:PT1H
BEGIN:VTIMEZONE
TZID:Europe/Tallinn
BEGIN:DAYLIGHT
TZOFFSETFROM:+0200
TZOFFSETTO:+0300
TZNAME:EEST
DTSTART:20250330T010000
END:DAYLIGHT
BEGIN:STANDARD
TZOFFSETFROM:+0300
TZOFFSETTO:+0200
TZNAME:EET
DTSTART:20251026T010000
END:STANDARD
BEGIN:DAYLIGHT
TZOFFSETFROM:+0200
TZOFFSETTO:+0300
TZNAME:EEST
DTSTART:20260329T010000
END:DAYLIGHT
BEGIN:STANDARD
TZOFFSETFROM:+0300
TZOFFSETTO:+0200
TZNAME:EET
DTSTART:20261025T010000
END:STANDARD
BEGIN:DAYLIGHT
TZOFFSETFROM:+0200
TZOFFSETTO:+0300
TZNAME:EEST
DTSTART:20270328T010000
END:DAYLIGHT
BEGIN:STANDARD
TZOFFSETFROM:+0300
TZOFFSETTO:+0200
TZNAME:EET
DTSTART:20271031T010000
END:STANDARD
END:VTIMEZONE
BEGIN:VEVENT
DTSTART;VALUE=DATE:20261107
DTEND;VALUE=DATE:20261108
DTSTAMP:20260420T013801
CREATED:20260417T055237Z
LAST-MODIFIED:20260417T055237Z
UID:112536-1794009600-1794095999@hiiumaa.ee
SUMMARY:Hiiumaa meistrivõistlused orienteerumises: metsasprint
DESCRIPTION:MN 14\, 21\, 45
URL:https://hiiumaa.ee/de/sundmus/hiiumaa-meistrivoistlused-orienteerumises-metsasprint/
LOCATION:Kõpu\, Eesti
CATEGORIES:Sport
ATTACH;FMTTYPE=image/png:https://hiiumaa.ee/wp-content/uploads/2026/03/HOK.png
END:VEVENT
BEGIN:VEVENT
DTSTART;TZID=Europe/Tallinn:20261212T100000
DTEND;TZID=Europe/Tallinn:20261212T150000
DTSTAMP:20260420T013801
CREATED:20260304T120506Z
LAST-MODIFIED:20260304T120550Z
UID:109530-1797069600-1797087600@hiiumaa.ee
SUMMARY:Talvine käsitöö ja omatoodangu laat
DESCRIPTION:Hiiumaa talvine käsitöö- ja omatoodangu laat toob Kärdla kultuurikeskusesse jõulueelse laadamelu\, kus kohtuvad kohalik käsitöö\, maitsed ja mõnus kultuuriprogramm. \nTule ja osta oma jõulukingid just sellelt laadalt. Kohalik ja eestimaine käsitöö ja toidukaup sobib kindlasti jõuluvana kingikotti. \nLaadakohvikus saad teha sooja joogiga väikese pausi ja nautida talvist laadapäeva. Õnneloosis saad proovida õnne\, sest iga loos võidab. \nTule naudi talvist laadamelu ja leia kingitused\, mis toovad jõulurõõmu! \n  \n\nKAUPLEJALE: \nLaadamaks on 15 eurot/müügimeeter. Laadamaksu korjatakse kohapeal. \nMeil on tavaks\, et iga osalev müüja annetab korralduskulude katteks laadaloosi midagi oma toodangust. \nInfo ja registreerimine alates 1. oktoobrist nele.eller@gmail.com 5166553.
URL:https://hiiumaa.ee/de/sundmus/talvine-kasitoo-ja-omatoodangu-laat/
LOCATION:Kärdla Kultuurikeskus
CATEGORIES:Markt
ATTACH;FMTTYPE=image/jpeg:https://hiiumaa.ee/wp-content/uploads/2026/03/Hiiumaa-talvine-kasitoo-ja-omatoodangu-laat-14.jpg
ORGANIZER;CN="Hiiumaa K%C3%A4sit%C3%B6%C3%B6selts":MAILTO:nele.eller@gmail.com
END:VEVENT
END:VCALENDAR